Workbook
Name AJE_17_Account: [4]AJE_17!$C:$C
Name AJE_17_Amount: [4]AJE_17!$G:$G
Name AJE_17_Number: [4]AJE_17!$B:$B
Name AJE_18_Account: [4]AJE_18!$C:$C
Name AJE_18_Amount: [4]AJE_18!$G:$G
Name AJE_18_Number: [4]AJE_18!$B:$B
Name AJE_19_Account: [4]AJE_19!$C:$C
Name AJE_19_Amount: [4]AJE_19!$G:$G
Name AJE_19_Number: [4]AJE_19!$B:$B
Name Confirm: #REF!
Name Confirm: #REF!
Name Name1a: '[6]Library Procedures'!$L$6
Name Name1b: '[6]Library Procedures'!$L$7
Name Name1c: '[7]Library Procedures'!$K$10
Name Name1d: '[7]Library Procedures'!$K$11
Name Name2a: '[6]Library Procedures'!$L$19
Name Name2b: '[6]Library Procedures'!$L$20
Name Name3a: '[6]Library Procedures'!$L$28
Name Name3b: '[6]Library Procedures'!$L$29
Name Name3c: '[6]Library Procedures'!$L$38
Name Name3d: '[6]Library Procedures'!$L$39
Name Name4a: '[6]Library Procedures'!$L$60
Name NSProjectionMethodIndex: '[8]Non-Statistical Sampling Master'!$C$63
Name NSRequiredLevelOfEvidenceItems: '[8]Non-Statistical Sampling Master'!$C$50:$C$53
Name NSTargetedTestingItems: '[8]Two Step Revenue Testing Master'!$E$47
Name PIE: '[8]Two Step Revenue Testing Master'!$C$87
Name TTDesiredLevelOfEvidenceItems: '[8]Global Data'!$B$92:$B$95
Name TwoStepMisstatementIdentified: '[8]Two Step Revenue Testing Master'!$C$85
Name TwoStepTolerableEstMisstmtCalc: '[8]Two Step Revenue Testing Master'!$T$45
Name YearEnd: [9]Aging!$B$15

Sheet Summary
B6: Client: | C6: XYZ Company
B7: Subject: | C7: (FSL)
B8: (OM)Overall materiality
B9: (PM)performance materiality
B10: Trivial:
B11: Total balance/amount
B12: Tested:
B13: Untested:
H14: Optional--->
B15: FSL & GL accounts | C15: Current Period (dd-mm-yyyy) | D15: Comparative (dd-mm-yyyy) | E15: Variance | F15: Variance % | G15: Explanation of variances | H15: ADJ (if any) | I15: Adjsuted
B20: Total | C20: =SUM(C16:C19) -> 0 | D20: =SUM(D16:D19) -> 0 | E20: =SUM(E16:E19) -> 0 | F20: =SUM(F16:F19) -> 0 | H20: =SUM(H16:H19) -> 0 | I20: =SUM(I16:I19) -> 0
B22: Per DFS | C22: 0 | D22: 0 | H22: Per final FS | I22: 0
B23: Difference | C23: =C22-C20 -> 0 | D23: =D22-D20 -> 0 | H23: Difference | I23: =I22-I20 -> 0
B26: Procedures | C26: Assertions covered | D26: Ref. | E26: Summary of Findings
B27: 1. Obtain the client's share-based compensation schedules and reconcile them to supporting documents such as board approvals and plan agreements. | C27: Completeness, Accuracy, Existence, Rights & Obligations
B28: 2. Evaluate whether the valuation methodology used to determine the fair value of the awards is appropriate and consistent with IFRS 2. | C28: Valuation, Accuracy
B29: 3. Verify that all key assumptions and inputs used in the valuation model (e.g., volatility, expected life, risk-free rate) are reasonable, supportable, and agree to external or internal evidence. | C29: Valuation, Accuracy
B30: 4. Recalculate the fair value and related expense for a sample of grants and compare the results to the amounts recorded in the financial statements. | C30: Accuracy, Valuation
B31: 5. Verify that the disclosures related to share-based payments in the financial statements are complete, accurate, and comply with IFRS 2 disclosure requirements. | C31: Completeness, Accuracy, Presentation & Disclosure
B36: Conclusion:
B37: No significant issues were identified. Sufficient and reliable evidence has been obtained.

Sheet Options Granted
B2: Background:
B3: During the year ended December 31, 2021, the Company granted stock options and warrants to directors and external consultants.
B4: The Company does not have employees, external consultants are considered as employees under IFRS 2 as they have provided services similar to employees provide. See details on tab (columns N-P) -> | L4: BoD Resolutions_Options
B5: Based on described above, services provided by external consultants were measured indirectly – i.e. the Company utilizes a Black-Scholes Option Pricing Model to estimate the fair value of stock options and warrants granted to employees and consultants.
B7: Procedures performed:
B8: During the year ended December 31, 2021, the Company recorded share-based compensation of $6,207,217 with respect to options granted.
B9: See Consolidated Statements of Changes in Equity in WP -> | D9: Shareholders' Equity
B10: We recalculated options granted using the Black-Scholes option pricing model (see results in the table below).
B11: We confirmed Issue Date, Expiry Date, Vesting Period, Exercise Price, Expected Life and Number of Options through Minutes of Board of Directors Resolutions -> | J11: BoD Resolutions_Options
B12: Stock Price was confirmed through Cypher Metaverse's historical stock price (CODE.CN) according to finance.yahoo.com data -> | H12: CODE.CN_For Volatility
B13: The value of an option is determined in part by its duration and by the expected volatility of the share price during the term of the option.
B14: For details of the expected volatility calculation please refer to the tab -> | E14: CODE.CN_For Volatility
B16: Revised (Options Granted) | L16: Previous version (Options Granted)
B17: Bank of Canada - Interest rates 10-year lookup
B18: http://www.bankofcanada.ca/rates/interest-rates/lookup-bond-yields/
B19: Issue Date | C19: 44202 | D19: 44235 | E19: 44243 | F19: 44298 | G19: 44539 | H19: 44539 | I19: 44539 | L19: Issue Date | M19: 44202 | N19: 44235 | O19: 44243 | P19: 44298 | Q19: 44539
B20: Expiry Date | C20: 46027 | D20: 46060 | E20: 44607 | F20: 46123 | G20: 46364 | H20: 45268 | I20: 44903 | L20: Expiry Date | M20: 46028 | N20: 46061 | O20: 46069 | P20: 46124 | Q20: 46365
B21: Vesting Period | C21: 0 | D21: 0 | E21: 0 | F21: 0 | G21: 0 | H21: 0 | I21: 0
B22: INPUT VARIABLES | L22: INPUT VARIABLES
B23: Stock Price | C23: =VLOOKUP(C19,'CODE.CN_For Volatility'!$A:$B,2,0) -> 0.23 | D23: =VLOOKUP(D19,'CODE.CN_For Volatility'!$A:$B,2,0) -> 0.315 | E23: =VLOOKUP(E19,'CODE.CN_For Volatility'!$A:$B,2,0) -> 0.37 | F23: =VLOOKUP(F19,'CODE.CN_For Volatility'!$A:$B,2,0) -> 0.265 | G23: =VLOOKUP(G19,'CODE.CN_For Volatility'!$A:$B,2,0) -> 0.12 | H23: =VLOOKUP(H19,'CODE.CN_For Volatility'!$A:$B,2,0) -> 0.12 | I23: =VLOOKUP(I19,'CODE.CN_For Volatility'!$A:$B,2,0) -> 0.12 | L23: Stock Price | M23: 0.23 | N23: 0.29 | O23: 0.31 | P23: 0.265 | Q23: 0.12
B24: Exercise Price | C24: 0.23 | D24: 0.3 | E24: 0.3 | F24: 0.265 | G24: 0.12 | H24: 0.12 | I24: 0.12 | L24: Exercise Price | M24: 0.23 | N24: 0.3 | O24: 0.3 | P24: 0.265 | Q24: 0.12
B25: Expected Life | C25: 5 | D25: 5 | E25: 1 | F25: 5 | G25: 5 | H25: 2 | I25: 1 | L25: Expected Life | M25: 5 | N25: 5 | O25: 5 | P25: 5 | Q25: 5
B26: Volatility | C26: ='CODE.CN_For Volatility'!H6 -> 1.990713 | D26: ='CODE.CN_For Volatility'!I6 -> 1.9938671 | E26: ='CODE.CN_For Volatility'!J6 -> 2.0187199 | F26: ='CODE.CN_For Volatility'!K6 -> 2.0358388 | G26: ='CODE.CN_For Volatility'!L6 -> 1.9563077 | H26: ='CODE.CN_For Volatility'!M6 -> 2.1495814 | I26: ='CODE.CN_For Volatility'!N6 -> 2.1495814 | L26: Volatility | M26: 1.4 | N26: 1.4 | O26: 1.4 | P26: 1.4 | Q26: 1.25
B27: Annual Rate of Quarterly Dividends | C27: 0 | D27: 0 | E27: 0 | F27: 0 | G27: 0 | H27: 0 | I27: 0 | L27: Annual Rate of Quarterly Dividends | M27: 0 | N27: 0 | O27: 0 | P27: 0 | Q27: 0
B28: Discount Rate - Bond Equivalent Yield | C28: 0.0041 | D28: 0.005 | E28: 0.0021 | F28: 0.0096 | G28: 0.0135 | H28: 0.01 | I28: 0.01 | L28: Discount Rate - Bond Equivalent Yield | M28: 0.005 | N28: 0.005 | O28: 0.005 | P28: 0.005 | Q28: 0.005
B30: INTERMEDIATE COMPUTATIONS | L30: INTERMEDIATE COMPUTATIONS
B31: Present Value of Stock Ex-dividend (So) | C31: =C23/(1+C27/4)^(C25*4) -> 0.23 | D31: =D23/(1+D27/4)^(D25*4) -> 0.315 | E31: =E23/(1+E27/4)^(E25*4) -> 0.37 | F31: =F23/(1+F27/4)^(F25*4) -> 0.265 | G31: =G23/(1+G27/4)^(G25*4) -> 0.12 | H31: =H23/(1+H27/4)^(H25*4) -> 0.12 | I31: =I23/(1+I27/4)^(I25*4) -> 0.12 | L31: Present Value of Stock Ex-dividend | M31: =M23/(1+M27/4)^(M25*4) -> 0.23 | N31: =N23/(1+N27/4)^(N25*4) -> 0.29 | O31: =O23/(1+O27/4)^(O25*4) -> 0.31 | P31: =P23/(1+P27/4)^(P25*4) -> 0.265 | Q31: =Q23/(1+Q27/4)^(Q25*4) -> 0.12
B32: Present Value of Exercise Price (Ke −rT) | C32: =C24/(1+C28/2)^(C25*2) -> 0.22533773 | D32: =D24/(1+D28/2)^(D25*2) -> 0.2926021 | E32: =E24/(1+E28/2)^(E25*2) -> 0.29937099 | F32: =F24/(1+F28/2)^(F25*2) -> 0.25260946 | G32: =G24/(1+G28/2)^(G25*2) -> 0.11219277 | H32: =H24/(1+H28/2)^(H25*2) -> 0.1176297 | I32: =I24/(1+I28/2)^(I25*2) -> 0.11880894 | L32: Present Value of Exercise Price | M32: =M24/(1+M28/2)^(M25*2) -> 0.22432828 | N32: =N24/(1+N28/2)^(N25*2) -> 0.2926021 | O32: =O24/(1+O28/2)^(O25*2) -> 0.2926021 | P32: =P24/(1+P28/2)^(P25*2) -> 0.25846519 | Q32: =Q24/(1+Q28/2)^(Q25*2) -> 0.11704084
B33: Cumulative Volatility | C33: =C26*SQRT(C25) -> 4.4513696 | D33: =D26*SQRT(D25) -> 4.4584223 | E33: =E26*SQRT(E25) -> 2.0187199 | F33: =F26*SQRT(F25) -> 4.5522739 | G33: =G26*SQRT(G25) -> 4.3744369 | H33: =H26*SQRT(H25) -> 3.0399672 | I33: =I26*SQRT(I25) -> 2.1495814 | L33: Cumulative Volatility | M33: =M26*SQRT(M25) -> 3.1304952 | N33: =N26*SQRT(N25) -> 3.1304952 | O33: =O26*SQRT(O25) -> 3.1304952 | P33: =P26*SQRT(P25) -> 3.1304952 | Q33: =Q26*SQRT(Q25) -> 2.795085
B35: CALL OPTION | L35: CALL OPTION
B36: Proportion of Stock Present Value (N(d1) | C36: =NORMSDIST(LN(C31/C32)/C33+C33/2) -> 0.98713575 | D36: =NORMSDIST(LN(D31/D32)/D33+D33/2) -> 0.98764014 | E36: =NORMSDIST(LN(E31/E32)/E33+E33/2) -> 0.86742208 | F36: =NORMSDIST(LN(F31/F32)/F33+F33/2) -> 0.98889204 | G36: =NORMSDIST(LN(G31/G32)/G33+G33/2) -> 0.98618842 | H36: =NORMSDIST(LN(H31/H32)/H33+H33/2) -> 0.93656305 | I36: =NORMSDIST(LN(I31/I32)/I33+I33/2) -> 0.85980222 | L36: Proportion of Stock Present Value | M36: =NORMSDIST(LN(M31/M32)/M33+M33/2) -> 0.94216647 | N36: =NORMSDIST(LN(N31/N32)/N33+N33/2) -> 0.94090241 | O36: =NORMSDIST(LN(O31/O32)/O33+O33/2) -> 0.94336876 | P36: =NORMSDIST(LN(P31/P32)/P33+P33/2) -> 0.94216647 | Q36: =NORMSDIST(LN(Q31/Q32)/Q33+Q33/2) -> 0.92020853
B37: Proportion of Exercise Price PV (N(d2) | C37: =-NORMSDIST(LN(C31/C32)/C33-C33/2) -> -0.01317263 | D37: =-NORMSDIST(LN(D31/D32)/D33-D33/2) -> -0.013460292 | E37: =-NORMSDIST(LN(E31/E32)/E33-E33/2) -> -0.18288309 | F37: =-NORMSDIST(LN(F31/F32)/F33-F33/2) -> -0.011737392 | G37: =-NORMSDIST(LN(G31/G32)/G33-G33/2) -> -0.014933876 | H37: =-NORMSDIST(LN(H31/H32)/H33-H33/2) -> -0.065086383 | I37: =-NORMSDIST(LN(I31/I32)/I33-I33/2) -> -0.14227585 | L37: Proportion of Exercise Price PV | M37: =-NORMSDIST(LN(M31/M32)/M33-M33/2) -> -0.059703008 | N37: =-NORMSDIST(LN(N31/N32)/N33-N33/2) -> -0.058428776 | O37: =-NORMSDIST(LN(O31/O32)/O33-O33/2) -> -0.06095607 | P37: =-NORMSDIST(LN(P31/P32)/P33-P33/2) -> -0.059703008 | Q37: =-NORMSDIST(LN(Q31/Q32)/Q33-Q33/2) -> -0.082475782
B38: Call Option Value | C38: =C31*C36+C32*C37 -> 0.22407293 | D38: =D31*D36+D32*D37 -> 0.30716814 | E38: =E31*E36+E32*E37 -> 0.26619628 | F38: =F31*F36+F32*F37 -> 0.25909141 | G38: =G31*G36+G32*G37 -> 0.11666714 | H38: =H31*H36+H32*H37 -> 0.10473147 | I38: =I31*I36+I32*I37 -> 0.086272623 | L38: Call Option Value | M38: =M31*M36+M32*M37 -> 0.20330522 | N38: =N31*N36+N32*N37 -> 0.25576532 | O38: =O31*O36+O32*O37 -> 0.27460844 | P38: =P31*P36+P32*P37 -> 0.23424297 | Q38: =Q31*Q36+Q32*Q37 -> 0.10077199
B40: PUT OPTION | L40: PUT OPTION
B41: Proportion of Stock Present Value | C41: =C36-1 -> -0.01286425 | D41: =D36-1 -> -0.012359857 | E41: =E36-1 -> -0.13257792 | F41: =F36-1 -> -0.011107958 | G41: =G36-1 -> -0.013811577 | H41: =H36-1 -> -0.063436947 | I41: =I36-1 -> -0.14019778 | L41: Proportion of Stock Present Value | M41: =M36-1 -> -0.057833529 | N41: =N36-1 -> -0.059097585 | O41: =O36-1 -> -0.056631241 | P41: =P36-1 -> -0.057833529 | Q41: =Q36-1 -> -0.079791473
B42: Proportion of Exercise Price PV | C42: =C37+1 -> 0.98682737 | D42: =D37+1 -> 0.98653971 | E42: =E37+1 -> 0.81711691 | F42: =F37+1 -> 0.98826261 | G42: =G37+1 -> 0.98506612 | H42: =H37+1 -> 0.93491362 | I42: =I37+1 -> 0.85772415 | L42: Proportion of Exercise Price PV | M42: =M37+1 -> 0.94029699 | N42: =N37+1 -> 0.94157122 | O42: =O37+1 -> 0.93904393 | P42: =P37+1 -> 0.94029699 | Q42: =Q37+1 -> 0.91752422
B43: Put Option Value | C43: =C31*C41+C32*C42 -> 0.21941066 | D43: =D31*D41+D32*D42 -> 0.28477024 | E43: =E31*E41+E32*E42 -> 0.19556727 | F43: =F31*F41+F32*F42 -> 0.24670087 | G43: =G31*G41+G32*G42 -> 0.10885991 | H43: =H31*H41+H32*H42 -> 0.10236118 | I43: =I31*I41+I32*I42 -> 0.085081564 | L43: Put Option Value | M43: =M31*M41+M32*M42 -> 0.19763349 | N43: =N31*N41+N32*N42 -> 0.25836742 | O43: =O31*O41+O32*O42 -> 0.25721054 | P43: =P31*P41+P32*P42 -> 0.22770816 | Q43: =Q31*Q41+Q32*Q42 -> 0.097812829
B45: TOTAL Value | J45: Total | L45: TOTAL Value | R45: Total
B46: # granted | C46: 4400000 | D46: 6050000 | E46: 200000 | F46: 7500000 | G46: 9775000 | H46: 2300000 | I46: 200000 | J46: =SUM(C46:I46) -> 30425000 | L46: # granted | M46: 4400000 | N46: 6050000 | O46: 200000 | P46: 7500000 | Q46: 12275000 | R46: =SUM(M46:Q46) -> 30425000
B47: Total compensation on granting | C47: =C46*C38 -> 985920.9 | D47: =D46*D38 -> 1858367.2 | E47: =E46*E38 -> 53239.256 | F47: =F46*F38 -> 1943185.6 | G47: =G46*G38 -> 1140421.3 | H47: =H46*H38 -> 240882.39 | I47: =I46*I38 -> 17254.525 | J47: =SUM(C47:I47) -> 6239271.2 | L47: Total compensation on granting | M47: =M46*M38 -> 894542.95 | N47: =N46*N38 -> 1547380.2 | O47: =O46*O38 -> 54921.688 | P47: =P46*P38 -> 1756822.2 | Q47: =Q46*Q38 -> 1236976.2 | R47: =SUM(M47:Q47) -> 5490643.2
...

Sheet Broker Warrant
B2: Procedures performed:
B3: During the year ended December 31, 2021, the Company recorded share issue costs of $85,941 with respect to broker warrants granted as finders’ fees.
B4: See Consolidated Statements of Changes in Equity in WP -> | D4: Shareholders' Equity
B5: We recalculated broker warrants granted using the Black-Scholes option pricing model (see results in the table below).
B6: Stock Price was confirmed through Cypher Metaverse's historical stock price (CODE.CN) according to finance.yahoo.com data -> | I6: CODE.CN_For Volatility
B7: The value of warrants is determined in part by its duration and by the expected volatility of the share price during the term of the warrant.
B8: For details of the expected volatility calculation please refer to the tab -> | E8: CODE.CN_For Volatility
B10: Warrants | F10: Comments
B11: Issue Date | C11: 44230 | D11: 44463 | E11: 44473 | F11: according to Form 9 (WPs: UC, UD, UE)
B12: Expiry Date | C12: 44960 | D12: 45193 | E12: 45203 | F12: according to Treasury Orders (WPs: UF, UG, UH)
B14: INPUT VARIABLES
B15: Stock Price (CAD) | C15: =VLOOKUP(C11,'[10]CODE.CN_For Volatility'!$A:$B,2,0) -> 0.31 | D15: =VLOOKUP(D11,'[10]CODE.CN_For Volatility'!$A:$B,2,0) -> 0.14 | E15: =VLOOKUP(E11,'[10]CODE.CN_For Volatility'!$A:$B,2,0) -> 0.14
B16: Exercise Price (CAD) | C16: 0.22 | D16: 0.15 | E16: 0.15 | F16: according to Treasury Orders (WPs: UF, UG, UH)
B17: Expected Life (years) | C17: 2 | D17: 2 | E17: 2 | F17: according to Treasury Orders (WPs: UF, UG, UH)
B18: Volatility | C18: ='[10]CODE.CN_For Volatility'!O6 -> 2.212278 | D18: ='[10]CODE.CN_For Volatility'!P6 -> 2.1968139 | E18: ='[10]CODE.CN_For Volatility'!Q6 -> 2.1947729
B19: Annual Rate of Quarterly Dividends | C19: 0 | D19: 0 | E19: 0
B20: Discount Rate - Bond Equivalent Yield | C20: 0.005 | D20: 0.005 | E20: 0.005
B22: INTERMEDIATE COMPUTATIONS
B23: Present Value of Stock Ex-dividend (CAD) | C23: =C15/(1+C19/4)^(C17*4) -> 0.31 | D23: =D15/(1+D19/4)^(D17*4) -> 0.14 | E23: =E15/(1+E19/4)^(E17*4) -> 0.14
B24: Present Value of Exercise Price (CAD) | C24: =C16/(1+C20/2)^(C17*2) -> 0.21781368 | D24: =D16/(1+D20/2)^(D17*2) -> 0.14850933 | E24: =E16/(1+E20/2)^(E17*2) -> 0.14850933
B25: Cumulative Volatility | C25: =C18*SQRT(C17) -> 3.1286335 | D25: =D18*SQRT(D17) -> 3.1067641 | E25: =E18*SQRT(E17) -> 3.1038775
B27: CALL OPTION
B28: Proportion of Stock Present Value | C28: =NORMSDIST(LN(C23/C24)/C25+C25/2) -> 0.95324087 | D28: =NORMSDIST(LN(D23/D24)/D25+D25/2) -> 0.93753307 | E28: =NORMSDIST(LN(E23/E24)/E25+E25/2) -> 0.93735327
B29: Proportion of Exercise Price PV | C29: =-NORMSDIST(LN(C23/C24)/C25-C25/2) -> -0.073319007 | D29: =-NORMSDIST(LN(D23/D24)/D25-D25/2) -> -0.057931853 | E29: =-NORMSDIST(LN(E23/E24)/E25-E25/2) -> -0.058097251
B30: Call Option Value (CAD) | C30: =C23*C28+C24*C29 -> 0.27953479 | D30: =D23*D28+D24*D29 -> 0.12265121 | E30: =E23*E28+E24*E29 -> 0.12260147
B32: PUT OPTION
B33: Proportion of Stock Present Value | C33: =C28-1 -> -0.046759127 | D33: =D28-1 -> -0.06246693 | E33: =E28-1 -> -0.062646729
B34: Proportion of Exercise Price PV | C34: =C29+1 -> 0.92668099 | D34: =D29+1 -> 0.94206815 | E34: =E29+1 -> 0.94190275
B35: Put Option Value (CAD) | C35: =C23*C33+C24*C34 -> 0.18734847 | D35: =D23*D33+D24*D34 -> 0.13116054 | E35: =E23*E33+E24*E34 -> 0.1311108
B37: TOTAL Value | F37: Total
B38: # granted | C38: =44130+103480+24500+16000 -> 188110 | D38: 208000 | E38: 64000 | F38: =SUM(C38:E38) -> 460110 | G38: according to Form 9 (WPs: UC, UD, UE)
B39: Total compensation on granting (CAD) | C39: =C38*C30 -> 52583.289 | D39: =D38*D30 -> 25511.452 | E39: =E38*E30 -> 7846.4944 | F39: =SUM(C39:E39) -> 85941.235
C40: 0.21 | D40: 0.21 | E40: 0.21
B43: Warrants
B44: Weighted Avg Discount rate | C44: =C20 -> 0.005
B45: Expected life | C45: 2
B46: Expected volatility | C46: =SUMPRODUCT(C18:E18,C38:E38)/SUM(C38:E38) -> 2.2028523
B47: Weighted Avg FV Granted | C47: =SUMPRODUCT(C30:E30,C38:E38)/SUM(C38:E38) -> 0.18678411
B48: Dividend rate | C48: =SUMPRODUCT(C19:E19,C38:E38)/SUM(C38:E38) -> 0
B51: Note 11. SHARE CAPITAL AND CONTRIBUTED SURPLUS (Warrants) | H51: per FS | I51: per PKF | J51: Diff.
...

Sheet BoD Resolutions_Options
A2: Minutes of Board of Directors Resolutions regarding Issuance of Options | N2: per people
A3: # | B3: Date of Resolution | C3: Name | D3: Number of Options | E3: Exercise price | F3: Vesting period | G3: Term (years) | I3: Total # granted | J3: % | K3: Total compensation on granting | L3: Compensation on granting per person | N3: Row Labels | O3: Sum of Number of Options | P3: Notes
A4: 1 | B4: 44235 | C4: David Stadnyk | D4: 3600000 | E4: 0.3 | F4: shall vest immediately | G4: 5 | I4: =INDEX('Options Granted'!$C$46:$I$46,MATCH('BoD Resolutions_Options'!A4,'Options Granted'!$C$49:$I$49,0)) -> 6050000 | J4: =$D4/I4 -> 0.59504132 | K4: =INDEX('Options Granted'!$C$47:$I$47,MATCH('BoD Resolutions_Options'!A4,'Options Granted'!$C$49:$I$49,0)) -> 1858367.2 | L4: =J4*K4 -> 1105805.3 | N4: David Stadnyk | O4: 14900000 | P4: David Stadnyk: Estimated average of 8-10 hours per month. Mr. Stadnyk provides capital markets advisory services on an ongoing basis. There are no documented KPI’s, budgets, or documentation of hours spent which are held by Cypher.
A5: 1 | B5: 44235 | C5: George Tsafalas | D5: 700000 | E5: 0.3 | F5: shall vest immediately | G5: 5 | I5: =INDEX('Options Granted'!$C$46:$I$46,MATCH('BoD Resolutions_Options'!A5,'Options Granted'!$C$49:$I$49,0)) -> 6050000 | J5: =$D5/I5 -> 0.11570248 | K5: =INDEX('Options Granted'!$C$47:$I$47,MATCH('BoD Resolutions_Options'!A5,'Options Granted'!$C$49:$I$49,0)) -> 1858367.2 | L5: =J5*K5 -> 215017.69 | N5: George Tsafalas | O5: 4875000 | P5: CEO
A6: 1 | B6: 44235 | C6: Zach Stadnyk | D6: 200000 | E6: 0.3 | F6: shall vest immediately | G6: 5 | I6: =INDEX('Options Granted'!$C$46:$I$46,MATCH('BoD Resolutions_Options'!A6,'Options Granted'!$C$49:$I$49,0)) -> 6050000 | J6: =$D6/I6 -> 0.033057851 | K6: =INDEX('Options Granted'!$C$47:$I$47,MATCH('BoD Resolutions_Options'!A6,'Options Granted'!$C$49:$I$49,0)) -> 1858367.2 | L6: =J6*K6 -> 61433.627 | N6: D. Richard Skeith | O6: 2000000 | P6: D. Richard Skeith: Estimated average 10-20 hours per month. Mr. Skieth is a partner at Dentons and provides Legal services to the company on a regular basis. Mr. Skeith invoices from Dentons regularly. There are no documented KPI’s, budgets, or documentation of hours spent which are held by Cypher other than invoices from Dentons.
A7: 1 | B7: 44235 | C7: Brian Keane | D7: 200000 | E7: 0.3 | F7: shall vest immediately | G7: 5 | I7: =INDEX('Options Granted'!$C$46:$I$46,MATCH('BoD Resolutions_Options'!A7,'Options Granted'!$C$49:$I$49,0)) -> 6050000 | J7: =$D7/I7 -> 0.033057851 | K7: =INDEX('Options Granted'!$C$47:$I$47,MATCH('BoD Resolutions_Options'!A7,'Options Granted'!$C$49:$I$49,0)) -> 1858367.2 | L7: =J7*K7 -> 61433.627 | N7: Zach Stadnyk | O7: 1600000 | P7: Zach Stadnyk: Estimated average 5-7 hours per month. Mr. Stadnyk provides capital markets advisory services on an ongoing basis. There are no documented KPI’s, budgets, or documentation of hours spent which are held by Cypher.
A8: 1 | B8: 44235 | C8: Morie Shacker | D8: 100000 | E8: 0.3 | F8: shall vest immediately | G8: 5 | I8: =INDEX('Options Granted'!$C$46:$I$46,MATCH('BoD Resolutions_Options'!A8,'Options Granted'!$C$49:$I$49,0)) -> 6050000 | J8: =$D8/I8 -> 0.016528926 | K8: =INDEX('Options Granted'!$C$47:$I$47,MATCH('BoD Resolutions_Options'!A8,'Options Granted'!$C$49:$I$49,0)) -> 1858367.2 | L8: =J8*K8 -> 30716.814 | N8: Brian Keane | O8: 1000000 | P8: Brian Kean: Estimated average 2-4 hours per month. Mr. Kean is a director of the Company and participates in all board related activities. Mr. Kean invoices monthly (TK can confirm the amount). There are no documented KPI’s, budgets, or documentation of hours spent which are held by Cypher.
A9: 1 | B9: 44235 | C9: D. Richard Skeith | D9: 300000 | E9: 0.3 | F9: shall vest immediately | G9: 5 | I9: =INDEX('Options Granted'!$C$46:$I$46,MATCH('BoD Resolutions_Options'!A9,'Options Granted'!$C$49:$I$49,0)) -> 6050000 | J9: =$D9/I9 -> 0.049586777 | K9: =INDEX('Options Granted'!$C$47:$I$47,MATCH('BoD Resolutions_Options'!A9,'Options Granted'!$C$49:$I$49,0)) -> 1858367.2 | L9: =J9*K9 -> 92150.441 | N9: Tatiana Kovaleva | O9: 700000 | P9: CFO
A10: 1 | B10: 44235 | C10: Laurent Zhang | D10: 350000 | E10: 0.3 | F10: shall vest immediately | G10: 5 | I10: =INDEX('Options Granted'!$C$46:$I$46,MATCH('BoD Resolutions_Options'!A10,'Options Granted'!$C$49:$I$49,0)) -> 6050000 | J10: =$D10/I10 -> 0.05785124 | K10: =INDEX('Options Granted'!$C$47:$I$47,MATCH('BoD Resolutions_Options'!A10,'Options Granted'!$C$49:$I$49,0)) -> 1858367.2 | L10: =J10*K10 -> 107508.85 | N10: Laurent Zhang | O10: 550000 | P10: Laurent Zhang: Estimated average 2-4 hours per month: Mr. Zhang is a Blockchain advisor of the Company and provides advisory services from time to regarding prospective investments. There are no documented KPI’s, budgets, or documentation of hours spent which are held by Cypher.
A11: 1 | B11: 44235 | C11: Jeff Koyen | D11: 200000 | E11: 0.3 | F11: shall vest immediately | G11: 5 | I11: =INDEX('Options Granted'!$C$46:$I$46,MATCH('BoD Resolutions_Options'!A11,'Options Granted'!$C$49:$I$49,0)) -> 6050000 | J11: =$D11/I11 -> 0.033057851 | K11: =INDEX('Options Granted'!$C$47:$I$47,MATCH('BoD Resolutions_Options'!A11,'Options Granted'!$C$49:$I$49,0)) -> 1858367.2 | L11: =J11*K11 -> 61433.627 | N11: Morie Shacker | O11: 500000
A12: 1 | B12: 44235 | C12: Tatiana Kovaleva | D12: 100000 | E12: 0.3 | F12: shall vest immediately | G12: 5 | I12: =INDEX('Options Granted'!$C$46:$I$46,MATCH('BoD Resolutions_Options'!A12,'Options Granted'!$C$49:$I$49,0)) -> 6050000 | J12: =$D12/I12 -> 0.016528926 | K12: =INDEX('Options Granted'!$C$47:$I$47,MATCH('BoD Resolutions_Options'!A12,'Options Granted'!$C$49:$I$49,0)) -> 1858367.2 | L12: =J12*K12 -> 30716.814 | N12: Jeff Koyen | O12: 500000 | P12: Jeff Koyen: Estimated average 2-4 hours per month: Mr. Koyen is a Blockchain advisor of the Company and provides advisory services from time to regarding prospective investments. There are no documented KPI’s, budgets, or documentation of hours spent which are held by Cypher.
A13: 1 | B13: 44235 | C13: Yini Lu | D13: 100000 | E13: 0.3 | F13: shall vest immediately | G13: 5 | I13: =INDEX('Options Granted'!$C$46:$I$46,MATCH('BoD Resolutions_Options'!A13,'Options Granted'!$C$49:$I$49,0)) -> 6050000 | J13: =$D13/I13 -> 0.016528926 | K13: =INDEX('Options Granted'!$C$47:$I$47,MATCH('BoD Resolutions_Options'!A13,'Options Granted'!$C$49:$I$49,0)) -> 1858367.2 | L13: =J13*K13 -> 30716.814 | N13: Anthony Abrahams | O13: 500000
A14: 1 | B14: 44235 | C14: David Lane | D14: 100000 | E14: 0.3 | F14: shall vest immediately | G14: 5 | I14: =INDEX('Options Granted'!$C$46:$I$46,MATCH('BoD Resolutions_Options'!A14,'Options Granted'!$C$49:$I$49,0)) -> 6050000 | J14: =$D14/I14 -> 0.016528926 | K14: =INDEX('Options Granted'!$C$47:$I$47,MATCH('BoD Resolutions_Options'!A14,'Options Granted'!$C$49:$I$49,0)) -> 1858367.2 | L14: =J14*K14 -> 30716.814 | N14: Harrison Ross | O14: 500000 | P14: Harrison Ross: Estimated average 2-4 hours per month. Mr. Ross is a director of the Company and participates in all board related activities. Mr. Ross invoices monthly (TK can confirm the amount). There are no documented KPI’s, budgets, or documentation of hours spent which are held by Cypher.
A15: 1 | B15: 44235 | C15: Anthony Abrahams | D15: 100000 | E15: 0.3 | F15: shall vest immediately | G15: 5 | I15: =INDEX('Options Granted'!$C$46:$I$46,MATCH('BoD Resolutions_Options'!A15,'Options Granted'!$C$49:$I$49,0)) -> 6050000 | J15: =$D15/I15 -> 0.016528926 | K15: =INDEX('Options Granted'!$C$47:$I$47,MATCH('BoD Resolutions_Options'!A15,'Options Granted'!$C$49:$I$49,0)) -> 1858367.2 | L15: =J15*K15 -> 30716.814 | N15: Diana Fuda | O15: 400000
A16: 2 | B16: 44243 | C16: Diana Fuda | D16: 200000 | E16: 0.3 | F16: shall vest immediately | G16: 1 | I16: =INDEX('Options Granted'!$C$46:$I$46,MATCH('BoD Resolutions_Options'!A16,'Options Granted'!$C$49:$I$49,0)) -> 200000 | J16: =$D16/I16 -> 1 | K16: =INDEX('Options Granted'!$C$47:$I$47,MATCH('BoD Resolutions_Options'!A16,'Options Granted'!$C$49:$I$49,0)) -> 53239.256 | L16: =J16*K16 -> 53239.256 | N16: Yini Lu | O16: 400000
A17: 3 | B17: 44298 | C17: Morie Shacker | D17: 200000 | E17: 0.265 | F17: shall vest immediately | G17: 5 | I17: =INDEX('Options Granted'!$C$46:$I$46,MATCH('BoD Resolutions_Options'!A17,'Options Granted'!$C$49:$I$49,0)) -> 7500000 | J17: =$D17/I17 -> 0.026666667 | K17: =INDEX('Options Granted'!$C$47:$I$47,MATCH('BoD Resolutions_Options'!A17,'Options Granted'!$C$49:$I$49,0)) -> 1943185.6 | L17: =J17*K17 -> 51818.283 | N17: David Lane | O17: 400000
A18: 3 | B18: 44298 | C18: Brian Keane | D18: 200000 | E18: 0.265 | F18: shall vest immediately | G18: 5 | I18: =INDEX('Options Granted'!$C$46:$I$46,MATCH('BoD Resolutions_Options'!A18,'Options Granted'!$C$49:$I$49,0)) -> 7500000 | J18: =$D18/I18 -> 0.026666667 | K18: =INDEX('Options Granted'!$C$47:$I$47,MATCH('BoD Resolutions_Options'!A18,'Options Granted'!$C$49:$I$49,0)) -> 1943185.6 | L18: =J18*K18 -> 51818.283 | N18: Jacob Chernoff | O18: 400000
A19: 3 | B19: 44298 | C19: Tatiana Kovaleva | D19: 200000 | E19: 0.265 | F19: shall vest immediately | G19: 5 | I19: =INDEX('Options Granted'!$C$46:$I$46,MATCH('BoD Resolutions_Options'!A19,'Options Granted'!$C$49:$I$49,0)) -> 7500000 | J19: =$D19/I19 -> 0.026666667 | K19: =INDEX('Options Granted'!$C$47:$I$47,MATCH('BoD Resolutions_Options'!A19,'Options Granted'!$C$49:$I$49,0)) -> 1943185.6 | L19: =J19*K19 -> 51818.283 | N19: John Thornton | O19: 300000
A20: 3 | B20: 44298 | C20: Yini Lu | D20: 100000 | E20: 0.265 | F20: shall vest immediately | G20: 5 | I20: =INDEX('Options Granted'!$C$46:$I$46,MATCH('BoD Resolutions_Options'!A20,'Options Granted'!$C$49:$I$49,0)) -> 7500000 | J20: =$D20/I20 -> 0.013333333 | K20: =INDEX('Options Granted'!$C$47:$I$47,MATCH('BoD Resolutions_Options'!A20,'Options Granted'!$C$49:$I$49,0)) -> 1943185.6 | L20: =J20*K20 -> 25909.141 | N20: Robert Payment | O20: 300000
A21: 3 | B21: 44298 | C21: Jacob Chernoff | D21: 100000 | E21: 0.265 | F21: shall vest immediately | G21: 5 | I21: =INDEX('Options Granted'!$C$46:$I$46,MATCH('BoD Resolutions_Options'!A21,'Options Granted'!$C$49:$I$49,0)) -> 7500000 | J21: =$D21/I21 -> 0.013333333 | K21: =INDEX('Options Granted'!$C$47:$I$47,MATCH('BoD Resolutions_Options'!A21,'Options Granted'!$C$49:$I$49,0)) -> 1943185.6 | L21: =J21*K21 -> 25909.141 | N21: Charlie Lamb | O21: 200000
A22: 3 | B22: 44298 | C22: Jeff Koyen | D22: 100000 | E22: 0.265 | F22: shall vest immediately | G22: 5 | I22: =INDEX('Options Granted'!$C$46:$I$46,MATCH('BoD Resolutions_Options'!A22,'Options Granted'!$C$49:$I$49,0)) -> 7500000 | J22: =$D22/I22 -> 0.013333333 | K22: =INDEX('Options Granted'!$C$47:$I$47,MATCH('BoD Resolutions_Options'!A22,'Options Granted'!$C$49:$I$49,0)) -> 1943185.6 | L22: =J22*K22 -> 25909.141 | N22: Manan Mehta | O22: 200000
A23: 3 | B23: 44298 | C23: Laurent Zhang | D23: 200000 | E23: 0.265 | F23: shall vest immediately | G23: 5 | I23: =INDEX('Options Granted'!$C$46:$I$46,MATCH('BoD Resolutions_Options'!A23,'Options Granted'!$C$49:$I$49,0)) -> 7500000 | J23: =$D23/I23 -> 0.026666667 | K23: =INDEX('Options Granted'!$C$47:$I$47,MATCH('BoD Resolutions_Options'!A23,'Options Granted'!$C$49:$I$49,0)) -> 1943185.6 | L23: =J23*K23 -> 51818.283 | N23: Laurent Zanoh | O23: 200000
A24: 3 | B24: 44298 | C24: D. Richard Skeith | D24: 500000 | E24: 0.265 | F24: shall vest immediately | G24: 5 | I24: =INDEX('Options Granted'!$C$46:$I$46,MATCH('BoD Resolutions_Options'!A24,'Options Granted'!$C$49:$I$49,0)) -> 7500000 | J24: =$D24/I24 -> 0.066666667 | K24: =INDEX('Options Granted'!$C$47:$I$47,MATCH('BoD Resolutions_Options'!A24,'Options Granted'!$C$49:$I$49,0)) -> 1943185.6 | L24: =J24*K24 -> 129545.71 | N24: Grand Total | O24: 30425000
A25: 3 | B25: 44298 | C25: David Lane | D25: 100000 | E25: 0.265 | F25: shall vest immediately | G25: 5 | I25: =INDEX('Options Granted'!$C$46:$I$46,MATCH('BoD Resolutions_Options'!A25,'Options Granted'!$C$49:$I$49,0)) -> 7500000 | J25: =$D25/I25 -> 0.013333333 | K25: =INDEX('Options Granted'!$C$47:$I$47,MATCH('BoD Resolutions_Options'!A25,'Options Granted'!$C$49:$I$49,0)) -> 1943185.6 | L25: =J25*K25 -> 25909.141 | N25: Check | O25: =SUM('Options Granted'!C46:I46) -> 30425000
A26: 3 | B26: 44298 | C26: Zach Stadnyk | D26: 500000 | E26: 0.265 | F26: shall vest immediately | G26: 5 | I26: =INDEX('Options Granted'!$C$46:$I$46,MATCH('BoD Resolutions_Options'!A26,'Options Granted'!$C$49:$I$49,0)) -> 7500000 | J26: =$D26/I26 -> 0.066666667 | K26: =INDEX('Options Granted'!$C$47:$I$47,MATCH('BoD Resolutions_Options'!A26,'Options Granted'!$C$49:$I$49,0)) -> 1943185.6 | L26: =J26*K26 -> 129545.71 | O26: =O24-O25 -> 0
A27: 3 | B27: 44298 | C27: David Stadnyk | D27: 3500000 | E27: 0.265 | F27: shall vest immediately | G27: 5 | I27: =INDEX('Options Granted'!$C$46:$I$46,MATCH('BoD Resolutions_Options'!A27,'Options Granted'!$C$49:$I$49,0)) -> 7500000 | J27: =$D27/I27 -> 0.46666667 | K27: =INDEX('Options Granted'!$C$47:$I$47,MATCH('BoD Resolutions_Options'!A27,'Options Granted'!$C$49:$I$49,0)) -> 1943185.6 | L27: =J27*K27 -> 906819.95
A28: 3 | B28: 44298 | C28: George Tsafalas | D28: 1500000 | E28: 0.265 | F28: shall vest immediately | G28: 5 | I28: =INDEX('Options Granted'!$C$46:$I$46,MATCH('BoD Resolutions_Options'!A28,'Options Granted'!$C$49:$I$49,0)) -> 7500000 | J28: =$D28/I28 -> 0.2 | K28: =INDEX('Options Granted'!$C$47:$I$47,MATCH('BoD Resolutions_Options'!A28,'Options Granted'!$C$49:$I$49,0)) -> 1943185.6 | L28: =J28*K28 -> 388637.12
A29: 3 | B29: 44298 | C29: Charlie Lamb | D29: 100000 | E29: 0.265 | F29: shall vest immediately | G29: 5 | I29: =INDEX('Options Granted'!$C$46:$I$46,MATCH('BoD Resolutions_Options'!A29,'Options Granted'!$C$49:$I$49,0)) -> 7500000 | J29: =$D29/I29 -> 0.013333333 | K29: =INDEX('Options Granted'!$C$47:$I$47,MATCH('BoD Resolutions_Options'!A29,'Options Granted'!$C$49:$I$49,0)) -> 1943185.6 | L29: =J29*K29 -> 25909.141
A30: 3 | B30: 44298 | C30: Anthony Abrahams | D30: 100000 | E30: 0.265 | F30: shall vest immediately | G30: 5 | I30: =INDEX('Options Granted'!$C$46:$I$46,MATCH('BoD Resolutions_Options'!A30,'Options Granted'!$C$49:$I$49,0)) -> 7500000 | J30: =$D30/I30 -> 0.013333333 | K30: =INDEX('Options Granted'!$C$47:$I$47,MATCH('BoD Resolutions_Options'!A30,'Options Granted'!$C$49:$I$49,0)) -> 1943185.6 | L30: =J30*K30 -> 25909.141
A31: 3 | B31: 44298 | C31: John Thornton | D31: 100000 | E31: 0.265 | F31: shall vest immediately | G31: 5 | I31: =INDEX('Options Granted'!$C$46:$I$46,MATCH('BoD Resolutions_Options'!A31,'Options Granted'!$C$49:$I$49,0)) -> 7500000 | J31: =$D31/I31 -> 0.013333333 | K31: =INDEX('Options Granted'!$C$47:$I$47,MATCH('BoD Resolutions_Options'!A31,'Options Granted'!$C$49:$I$49,0)) -> 1943185.6 | L31: =J31*K31 -> 25909.141
A32: 4 | B32: 44539 | C32: George Tsafalas | D32: 1875000 | E32: 0.12 | F32: shall vest as outiined below - no info => 0 | G32: 5 | I32: =INDEX('Options Granted'!$C$46:$I$46,MATCH('BoD Resolutions_Options'!A32,'Options Granted'!$C$49:$I$49,0)) -> 9775000 | J32: =$D32/I32 -> 0.19181586 | K32: =INDEX('Options Granted'!$C$47:$I$47,MATCH('BoD Resolutions_Options'!A32,'Options Granted'!$C$49:$I$49,0)) -> 1140421.3 | L32: =J32*K32 -> 218750.88
A33: 4 | B33: 44539 | C33: Tatiana Kovaleva | D33: 200000 | E33: 0.12 | F33: shall vest as outiined below - no info => 0 | G33: 5 | I33: =INDEX('Options Granted'!$C$46:$I$46,MATCH('BoD Resolutions_Options'!A33,'Options Granted'!$C$49:$I$49,0)) -> 9775000 | J33: =$D33/I33 -> 0.020460358 | K33: =INDEX('Options Granted'!$C$47:$I$47,MATCH('BoD Resolutions_Options'!A33,'Options Granted'!$C$49:$I$49,0)) -> 1140421.3 | L33: =J33*K33 -> 23333.428
A34: 4 | B34: 44539 | C34: Harrison Ross | D34: 500000 | E34: 0.12 | F34: shall vest as outiined below - no info => 0 | G34: 5 | I34: =INDEX('Options Granted'!$C$46:$I$46,MATCH('BoD Resolutions_Options'!A34,'Options Granted'!$C$49:$I$49,0)) -> 9775000 | J34: =$D34/I34 -> 0.051150895 | K34: =INDEX('Options Granted'!$C$47:$I$47,MATCH('BoD Resolutions_Options'!A34,'Options Granted'!$C$49:$I$49,0)) -> 1140421.3 | L34: =J34*K34 -> 58333.569
A35: 4 | B35: 44539 | C35: David Stadnyk | D35: 6000000 | E35: 0.12 | F35: shall vest as outiined below - no info => 0 | G35: 5 | I35: =INDEX('Options Granted'!$C$46:$I$46,MATCH('BoD Resolutions_Options'!A35,'Options Granted'!$C$49:$I$49,0)) -> 9775000 | J35: =$D35/I35 -> 0.61381074 | K35: =INDEX('Options Granted'!$C$47:$I$47,MATCH('BoD Resolutions_Options'!A35,'Options Granted'!$C$49:$I$49,0)) -> 1140421.3 | L35: =J35*K35 -> 700002.83
A36: 4 | B36: 44539 | C36: Brian Keane | D36: 400000 | E36: 0.12 | F36: shall vest as outiined below - no info => 0 | G36: 5 | I36: =INDEX('Options Granted'!$C$46:$I$46,MATCH('BoD Resolutions_Options'!A36,'Options Granted'!$C$49:$I$49,0)) -> 9775000 | J36: =$D36/I36 -> 0.040920716 | K36: =INDEX('Options Granted'!$C$47:$I$47,MATCH('BoD Resolutions_Options'!A36,'Options Granted'!$C$49:$I$49,0)) -> 1140421.3 | L36: =J36*K36 -> 46666.855
A37: 4 | B37: 44539 | C37: D. Richard Skeith | D37: 800000 | E37: 0.12 | F37: shall vest as outiined below - no info => 0 | G37: 5 | I37: =INDEX('Options Granted'!$C$46:$I$46,MATCH('BoD Resolutions_Options'!A37,'Options Granted'!$C$49:$I$49,0)) -> 9775000 | J37: =$D37/I37 -> 0.081841432 | K37: =INDEX('Options Granted'!$C$47:$I$47,MATCH('BoD Resolutions_Options'!A37,'Options Granted'!$C$49:$I$49,0)) -> 1140421.3 | L37: =J37*K37 -> 93333.71
A38: 6 | B38: 44539 | C38: Diana Fuda | D38: 200000 | E38: 0.12 | F38: shall vest as outiined below - no info => 0 | G38: 1 | I38: =INDEX('Options Granted'!$C$46:$I$46,MATCH('BoD Resolutions_Options'!A38,'Options Granted'!$C$49:$I$49,0)) -> 200000 | J38: =$D38/I38 -> 1 | K38: =INDEX('Options Granted'!$C$47:$I$47,MATCH('BoD Resolutions_Options'!A38,'Options Granted'!$C$49:$I$49,0)) -> 17254.525 | L38: =J38*K38 -> 17254.525
... A60: 0 | B60: 44202 | C60: D. Richard Skeith | D60: 400000 | E60: 0.23 | F60: shall vest immediately | G60: 5 | I60: =INDEX('Options Granted'!$C$46:$I$46,MATCH('BoD Resolutions_Options'!A60,'Options Granted'!$C$49:$I$49,0)) -> 4400000 | J60: =$D60/I60 -> 0.090909091 | K60: =INDEX('Options Granted'!$C$47:$I$47,MATCH('BoD Resolutions_Options'!A60,'Options Granted'!$C$49:$I$49,0)) -> 985920.9 | L60: =J60*K60 -> 89629.173
D61: =SUM(D4:D60) -> 30425000 | F61: Average Price | G61: =SUMPRODUCT(D4:D60,E4:E60)/D61 -> 0.20862777
D62: =SUM('Options Granted'!C46:I46) -> 30425000
...

Sheet Note 11 Check_Stock Options
A1: Note 11. SHARE CAPITAL AND CONTRIBUTED SURPLUS
A2: Stock Options
A4: per FS | B4: Check | C4: Check | D4: Check | E4: Check | F4: Check
A5: The Company grants options under the terms of its rolling stock option plan to executive officers, directors, employees, and consultants, enabling them to acquire up to 10% of the then issued and outstanding shares of the Company. The exercise price of each option equals the market price of the Company’s shares, less allowable discount, as calculated on the date of grant. The options can be granted for a maximum term of 10 years. | F5: ok
A7: On January 16, 2021, the Company granted a total of 4,400,000 options to management, employees and consultants. Each option entitles the holder to subscribe for one common share of the Company for $0.23 for a period of 5 years. The options were fully vested upon issuance. | B7: ='Options Granted'!C46 -> 4400000 | C7: ='Options Granted'!C24 -> 0.23 | D7: ='Options Granted'!C25 -> 5 | F7: ok
A9: On February 9, 2021, the Company granted 6,050,000 stock options to management, employees and consultants. Each option entitles the holder to subscribe for one common share of the Company for $0.30 for a period of 5 years. The options were fully vested upon issuance. | B9: ='Options Granted'!D46 -> 6050000 | C9: ='Options Granted'!D24 -> 0.3 | D9: ='Options Granted'!D25 -> 5 | F9: ok
A11: On February 16, 2021, the Company granted 200,000 stock options to management, employees and consultants. Each option entitles the holder to subscribe for one common share of the Company for $0.30 for a period of 1 year. The options were fully vested upon issuance. | B11: ='Options Granted'!E46 -> 200000 | C11: ='Options Granted'!E24 -> 0.3 | D11: ='Options Granted'!E25 -> 1 | F11: ok
A13: On April 12, 2021, the Company granted 7,500,000 stock options to management, employees and consultants. Each option entitles the holder to subscribe for one common share of the Company for $0.265 for a period of 5 years. The options were fully vested upon issuance. | B13: ='Options Granted'!F46 -> 7500000 | C13: ='Options Granted'!F24 -> 0.265 | D13: ='Options Granted'!F25 -> 5 | F13: ok
A15: On November 3, 2021, the Company cancelled 9,550,000 stock options to management, employees and consultants. The options were fully vested upon issuance. | B15: ok, WP EXT.008 | F15: ok
A17: On December 9, 2021, the Company granted 12,275,000 stock options to management, employees and consultants. Each option entitles the holder to subscribe for one common share of the Company for $0.12 for a period of 1 to 5 years. The options were fully vested upon issuance. | B17: =SUM('Options Granted'!G46:I46) -> 12275000 | C17: ='Options Granted'!G24 -> 0.12 | D17: ='Options Granted'!I25 -> 1 | E17: ='Options Granted'!G25 -> 5 | F17: ok
A19: On April 9, 2020, the Company granted a total of 1,735,000 options to management, employees and consultants. The options were fully vested upon issuance. Each option entitles the holder to subscribe for one common share of the Company for $0.50 for a period of 5 years. The options were fully vested upon issuance. | B19: ok, PY FS | F19: ok
A21: On November 30, 2020, the Company granted a total of 1,500,000 options to management, employees and consultants. The options were fully vested upon issuance. Each option entitles the holder to subscribe for one common share of the Company for $0.19 for a period of 5 years. | B21: ok, PY FS | F21: ok

Sheet Note Check_Options Warrants
B2: A summary of change in stock options as follows:
C3: Number of Options | D3: Average Price
B4: Balance at December 31, 2019 | C4: 1900000 | D4: 0.9
B5: Cancelled | C5: -2480000 | D5: 0.77
B6: Issued | C6: 3235000 | D6: 0.36
B7: Balance at December 31, 2020 | C7: 2655000 | D7: 0.36 | E7: ok, FS 2020
B8: Cancelled/forfeited | C8: -10705000 | D8: 0.31
B9: Exercised | C9: -9300000 | D9: 0.26 | E9: =-'[11]Shares issued_Options'!J60 -> -9300000 | F9: ='[11]Shares issued_Options'!I60/'[11]Shares issued_Options'!J60 -> 0.25516129 | G9: ok
B10: Issued | C10: 30425000 | D10: 0.21 | E10: 30425000 | F10: 0.20862777 | G10: ok, WP SY
B11: Balance at December 31, 2021 | C11: 13075000 | D11: 0.13 | E11: =SUM(C7:C8,E9:E10) -> 13075000 | G11: ok
B14: The following table summarizes stock options outstanding at December 31, 2021:
B15: Expiry Date | C15: Number of Options | D15: Number of Exercisable Options | E15: Weighted Average Exercise Price | F15: Weighted Average Remaining Years | G15: Date Granted | H15: 44561 | L15: Weighted Average Remaining Years
B16: 46028 | C16: 800000 | D16: 800000 | E16: 0.23 | F16: 4.02 | G16: 44202 | H16: =DATEDIF($H$15,B16,"D") -> 1467 | I16: =DATEDIF(G16,B16,"D") -> 1826 | J16: =H16/I16 -> 0.8033954 | K16: 5 | L16: =K16*J16 -> 4.016977
B17: 46365 | C17: 9775000 | D17: 9775000 | E17: 0.12 | F17: 4.94 | G17: 44536 | H17: =DATEDIF($H$15,B17,"D") -> 1804 | I17: =DATEDIF(G17,B17,"D") -> 1829 | J17: =H17/I17 -> 0.98633133 | K17: 5 | L17: =K17*J17 -> 4.9316566
B18: 44904 | C18: 200000 | D18: 200000 | E18: 0.12 | F18: 0.94 | G18: 44536 | H18: =DATEDIF($H$15,B18,"D") -> 343 | I18: =DATEDIF(G18,B18,"D") -> 368 | J18: =H18/I18 -> 0.93206522 | K18: 1 | L18: =K18*J18 -> 0.93206522
B19: 45269 | C19: 2300000 | D19: 2300000 | E19: 0.12 | F19: 1.94 | G19: 44536 | H19: =DATEDIF($H$15,B19,"D") -> 708 | I19: =DATEDIF(G19,B19,"D") -> 733 | J19: =H19/I19 -> 0.96589359 | K19: 2 | L19: =K19*J19 -> 1.9317872
C20: 13075000 | D20: 13075000 | E20: 0.13
B21: Check | C21: =SUM(C16:C19)-C20 -> 0 | D21: =SUM(D16:D19)-D20 -> 0
B24: Warrants
B26: A summary of change in warrants as follows:
C28: Number of Options | D28: Average
D29: Price
B30: Balance at December 31, 2019 | C30: 16858760 | D30: 0.8
B31: Granted | C31: 40385164 | D31: 0.16
B32: Exercised | C32: -2020833 | D32: 0.08
B33: Expired | C33: -1425384 | D33: 0.71
B34: Balance at December 31, 2020 | C34: 53797708 | D34: 0.36 | E34: ok, FS 2020
B35: Granted | C35: 11796935 | D35: 0.14
B36: Exercised | C36: -26702509 | D36: 0.69 | E36: =-'[11]Shares issued_Warrants'!K78 -> -26702509 | F36: ok
B37: Expired | C37: -4284433 | D37: 0.14
B38: Balance at December 31, 2021 | C38: 34607701 | D38: 0.39
B39: Check | C39: =SUM(C34:C37)-C38 -> -0.07
B41: The following table summarizes warrants outstanding at December 31, 2021:
C43: Number of Warrants | D43: Weighted Average Exercise Price | E43: Weighted Average Remaining Years
B44: Expiry Date
B45: 44564 | C45: 2382490 | D45: 0.5 | E45: 0.01
B46: 44589 | C46: 1287700 | D46: 0.5 | E46: 0.08
B47: 44589 | C47: 180400 | D47: 0.5 | E47: 0.08
B48: 44604 | C48: 2073667 | D48: 0.5 | E48: 0.12
B49: 44616 | C49: 1229476 | D49: 0.5 | E49: 0.15
...

Sheet Sources =>

Sheet CODE.CN_For Volatility
A1: Sourse: | B1: https://finance.yahoo.com/ | G1: Calculation of Volatality
A2: Cypher Metaverse Inc. (CODE.CN) | G2: Issue Date | H2: 44202 | I2: 44235 | J2: 44243 | K2: 44298 | L2: 44539 | M2: 44539 | N2: 44539 | O2: 44230 | P2: 44463 | Q2: 44473
A3: Canadian Sec - Canadian Sec Real Time Price. Currency in CAD | G3: Expiry Date | H3: 46027 | I3: 46060 | J3: 44607 | K3: 46123 | L3: 46364 | M3: 45268 | N3: 44903 | O3: 44960 | P3: 45193 | Q3: 45203
A4: Historical Prices | G4: Expected life | H4: =DATEDIF(H2,H3,"Y")+1 -> 5 | I4: =DATEDIF(I2,I3,"Y")+1 -> 5 | J4: =DATEDIF(J2,J3,"Y")+1 -> 1 | K4: =DATEDIF(K2,K3,"Y")+1 -> 5 | L4: =DATEDIF(L2,L3,"Y")+1 -> 5 | M4: =DATEDIF(M2,M3,"Y")+1 -> 2 | N4: =DATEDIF(N2,N3,"Y")+1 -> 1 | O4: =DATEDIF(O2,O3,"Y") -> 2 | P4: =DATEDIF(P2,P3,"Y") -> 2 | Q4: =DATEDIF(Q2,Q3,"Y") -> 2
A5: Amounts in CAD | G5: Number of trading days per year | H5: 252 | I5: 252 | J5: 252 | K5: 252 | L5: 252 | M5: 252 | N5: 252 | O5: 252 | P5: 252 | Q5: 252
G6: Computed Volatility | H6: =_xlfn.STDEV.S(D255:D1510)*SQRT(H5) -> 1.990713 | I6: =_xlfn.STDEV.S(D232:D1487)*SQRT(I5) -> 1.9938671 | J6: =_xlfn.STDEV.S(D227:D1482)*SQRT(J5) -> 2.0187199 | K6: =_xlfn.STDEV.S(D182:D1436)*SQRT(K5) -> 2.0358388 | L6: =_xlfn.STDEV.S(D21:D1275)*SQRT(L5) -> 1.9563077 | M6: =_xlfn.STDEV.S(D21:D521)*SQRT(M5) -> 2.1495814 | N6: =_xlfn.STDEV.S($D$21:$D$521)*SQRT(N5) -> 2.1495814 | O6: =_xlfn.STDEV.S($D$235:$D$737)*SQRT(O5) -> 2.212278 | P6: =_xlfn.STDEV.S($D$74:$D$577)*SQRT(P5) -> 2.1968139 | Q6: =_xlfn.STDEV.S($D$68:$D$569)*SQRT(Q5) -> 2.1947729
A7: Date | B7: Adj Close | C7: Dividend | D7: Continuously compounded rate | E7: Year
A8: 44560 | B8: 0.11 | C8: 0 | E8: =YEAR(A8) -> 2021 | H8: =ROUND(H9/H4,0) -> 251 | I8: =ROUND(I9/I4,0) -> 251 | J8: =ROUND(J9/J4,0) -> 251 | K8: =ROUND(K9/K4,0) -> 251 | L8: =ROUND(L9/L4,0) -> 251 | M8: =ROUND(M9/M4,0) -> 252 | N8: =ROUND(N9/N4,0) -> 252 | O8: =ROUND(O9/O4,0) -> 252 | ... Q8: =ROUND(Q9/Q4,0) -> 251
A9: 44559 | B9: 0.1 | C9: 0 | D9: =LN((C9+B9)/(B8)) -> -0.09531018 | E9: =YEAR(A9) -> 2021 | H9: =SUM(H10:H2014) -> 1256 | I9: =SUM(I10:I2014) -> 1256 | J9: =SUM(J10:J2014) -> 251 | K9: =SUM(K10:K2014) -> 1255 | L9: =SUM(L10:L2014) -> 1255 | M9: =SUM(M10:M2014) -> 504 | N9: =SUM(N10:N2014) -> 252 | O9: =SUM(O10:O2014) -> 503 | ... Q9: =SUM(Q10:Q2014) -> 502
A10: 44554 | B10: 0.115 | C10: 0 | D10: =LN((C10+B10)/(B9)) -> 0.13976194 | E10: =YEAR(A10) -> 2021
A11: 44553 | B11: 0.12 | C11: 0 | D11: =LN((C11+B11)/(B10)) -> 0.042559614 | E11: =YEAR(A11) -> 2021
A12: 44552 | B12: 0.11 | C12: 0 | D12: =LN((C12+B12)/(B11)) -> -0.087011377 | E12: =YEAR(A12) -> 2021
A13: 44551 | B13: 0.1 | C13: 0 | D13: =LN((C13+B13)/(B12)) -> -0.09531018 | E13: =YEAR(A13) -> 2021
A14: 44550 | B14: 0.1 | C14: 0 | D14: =LN((C14+B14)/(B13)) -> 0 | E14: =YEAR(A14) -> 2021
A15: 44547 | B15: 0.105 | C15: 0 | D15: =LN((C15+B15)/(B14)) -> 0.048790164 | E15: =YEAR(A15) -> 2021
A16: 44546 | B16: 0.1 | C16: 0 | D16: =LN((C16+B16)/(B15)) -> -0.048790164 | E16: =YEAR(A16) -> 2021
A17: 44545 | B17: 0.105 | C17: 0 | D17: =LN((C17+B17)/(B16)) -> 0.048790164 | E17: =YEAR(A17) -> 2021
A18: 44544 | B18: 0.11 | C18: 0 | D18: =LN((C18+B18)/(B17)) -> 0.046520016 | E18: =YEAR(A18) -> 2021
A19: 44543 | B19: 0.105 | C19: 0 | D19: =LN((C19+B19)/(B18)) -> -0.046520016 | E19: =YEAR(A19) -> 2021
A20: 44540 | B20: 0.115 | C20: 0 | D20: =LN((C20+B20)/(B19)) -> 0.090971778 | E20: =YEAR(A20) -> 2021
A21: 44539 | B21: 0.12 | C21: 0 | D21: =LN((C21+B21)/(B20)) -> 0.042559614 | E21: =YEAR(A21) -> 2021 | L21: 1 | M21: 1 | N21: 1
A22: 44538 | B22: 0.12 | C22: 0 | D22: =LN((C22+B22)/(B21)) -> 0 | E22: =YEAR(A22) -> 2021 | L22: 1 | M22: 1 | N22: 1
A23: 44537 | B23: 0.12 | C23: 0 | D23: =LN((C23+B23)/(B22)) -> 0 | E23: =YEAR(A23) -> 2021 | L23: 1 | M23: 1 | N23: 1
A24: 44536 | B24: 0.12 | C24: 0 | D24: =LN((C24+B24)/(B23)) -> 0 | E24: =YEAR(A24) -> 2021 | L24: 1 | M24: 1 | N24: 1
A25: 44533 | B25: 0.125 | C25: 0 | D25: =LN((C25+B25)/(B24)) -> 0.040821995 | E25: =YEAR(A25) -> 2021 | L25: 1 | M25: 1 | N25: 1
A26: 44532 | B26: 0.13 | C26: 0 | D26: =LN((C26+B26)/(B25)) -> 0.039220713 | E26: =YEAR(A26) -> 2021 | L26: 1 | M26: 1 | N26: 1
A27: 44531 | B27: 0.135 | C27: 0 | D27: =LN((C27+B27)/(B26)) -> 0.037740328 | E27: =YEAR(A27) -> 2021 | L27: 1 | M27: 1 | N27: 1
A28: 44530 | B28: 0.135 | C28: 0 | D28: =LN((C28+B28)/(B27)) -> 0 | E28: =YEAR(A28) -> 2021 | L28: 1 | M28: 1 | N28: 1
A29: 44529 | B29: 0.14 | C29: 0 | D29: =LN((C29+B29)/(B28)) -> 0.036367644 | E29: =YEAR(A29) -> 2021 | L29: 1 | M29: 1 | N29: 1
A30: 44526 | B30: 0.13 | C30: 0 | D30: =LN((C30+B30)/(B29)) -> -0.074107972 | E30: =YEAR(A30) -> 2021 | L30: 1 | M30: 1 | N30: 1
A31: 44525 | B31: 0.14 | C31: 0 | D31: =LN((C31+B31)/(B30)) -> 0.074107972 | E31: =YEAR(A31) -> 2021 | L31: 1 | M31: 1 | N31: 1
A32: 44524 | B32: 0.14 | C32: 0 | D32: =LN((C32+B32)/(B31)) -> 0 | E32: =YEAR(A32) -> 2021 | L32: 1 | M32: 1 | N32: 1
... A67: 44474 | B67: 0.15 | C67: 0 | D67: =LN((C67+B67)/(B66)) -> 0.10536052 | E67: =YEAR(A67) -> 2021 | L67: 1 | M67: 1 | N67: 1
A68: 44473 | B68: 0.14 | C68: 0 | D68: =LN((C68+B68)/(B67)) -> -0.068992871 | E68: =YEAR(A68) -> 2021 | L68: 1 | M68: 1 | N68: 1 | Q68: 1
A69: 44470 | B69: 0.135 | C69: 0 | D69: =LN((C69+B69)/(B68)) -> -0.036367644 | E69: =YEAR(A69) -> 2021 | L69: 1 | M69: 1 | N69: 1 | Q69: 1
A70: 44469 | B70: 0.13 | C70: 0 | D70: =LN((C70+B70)/(B69)) -> -0.037740328 | E70: =YEAR(A70) -> 2021 | L70: 1 | M70: 1 | N70: 1 | Q70: 1
A71: 44468 | B71: 0.13 | C71: 0 | D71: =LN((C71+B71)/(B70)) -> 0 | E71: =YEAR(A71) -> 2021 | L71: 1 | M71: 1 | N71: 1 | Q71: 1
A72: 44467 | B72: 0.14 | C72: 0 | D72: =LN((C72+B72)/(B71)) -> 0.074107972 | E72: =YEAR(A72) -> 2021 | L72: 1 | M72: 1 | N72: 1 | Q72: 1
A73: 44466 | B73: 0.135 | C73: 0 | D73: =LN((C73+B73)/(B72)) -> -0.036367644 | E73: =YEAR(A73) -> 2021 | L73: 1 | M73: 1 | N73: 1 | Q73: 1
A74: 44463 | B74: 0.14 | C74: 0 | D74: =LN((C74+B74)/(B73)) -> 0.036367644 | E74: =YEAR(A74) -> 2021 | L74: 1 | M74: 1 | N74: 1 | P74: 1 | Q74: 1
...

Sheet PBC =>

Sheet Volatility
A2: BLOCKCHAIN
A4: Company | B4: Volatilty | C4: Source | D4: years
A5: Hive | B5: 1.05 | C5: Audited FS | D5: 5 | E5: an expected volatility of 105% | F5: The Debentures mature on the date that is 60 months from the date of issuance
A6: Hut 8 | B6: 2.058 | C6: Audited FS | D6: 10 | E6: The stock compensation expense was based on the fair value of each stock option on the date of grant using the Black-Scholes option pricing model with the following weighted average assumptions for the year ended December 31, 2021: expected life of 10 years, risk-free rate of 1.53%, volatility of 205.80%, and dividend yield of 0%.
A7: DMG | B7: 1.55 | C7: Audited FS | D7: 3 | E7: term: 3 years, 155%
A8: Neptune Digital | B8: 1.5989 | C8: Audited FS | D8: 10 | E8: term: 10 years, 159.89%
A9: Tokens.com | B9: 1.1197 | C9: Audited FS | D9: 3 | E9: three year expected average life, volatility of 138%, risk free interest rate of 1.15%; and an expected dividend yield of 0%
A10: Wonderfi | B10: 1 | C10: Audited FS | D10: 1 | E10: 2 years
A12: Average | B12: =AVERAGE(B5:B10) -> 1.3961 | D12: =AVERAGE(D5:D10) -> 5.3333333
A16: CANNABIS / CBD
A18: Company | B18: Volatilty | C18: Source
A19: Canopy Growth | B19: 0.76 | C19: Audited FS
A20: Charlottes Web | B20: 0.865 | C20: Audited FS
A21: Auora Cannabis | B21: 0.8169 | C21: Audited FS
A22: Cronos | B22: 0.8 | C22: Audited FS
A23: Curaleaf | B23: 0.7651 | C23: Audited FS
A24: Green Thumb | B24: 0.73 | C24: Audited FS
A26: Average | B26: =AVERAGE(B19:B24) -> 0.7895
